BEGIN:VCALENDAR
VERSION:2.0
PRODID:-//jEvents 2.0 for Joomla//EN
CALSCALE:GREGORIAN
METHOD:PUBLISH
BEGIN:VTIMEZONE
TZID:Europe/London
BEGIN:STANDARD
DTSTART:20240205T090000
RDATE:20240331T020000
TZOFFSETFROM:+0100
TZOFFSETTO:+0000
TZNAME:Europe/London GMT
END:STANDARD
BEGIN:STANDARD
DTSTART:20241027T010000
RDATE:20250330T020000
TZOFFSETFROM:+0100
TZOFFSETTO:+0000
TZNAME:Europe/London GMT
END:STANDARD
BEGIN:STANDARD
DTSTART:20251026T010000
RDATE:20260329T020000
TZOFFSETFROM:+0100
TZOFFSETTO:+0000
TZNAME:Europe/London GMT
END:STANDARD
BEGIN:STANDARD
DTSTART:20261025T010000
RDATE:20270328T020000
TZOFFSETFROM:+0100
TZOFFSETTO:+0000
TZNAME:Europe/London GMT
END:STANDARD
BEGIN:STANDARD
DTSTART:20271031T010000
RDATE:20280326T020000
TZOFFSETFROM:+0100
TZOFFSETTO:+0000
TZNAME:Europe/London GMT
END:STANDARD
BEGIN:STANDARD
DTSTART:20281029T010000
RDATE:20290325T020000
TZOFFSETFROM:+0100
TZOFFSETTO:+0000
TZNAME:Europe/London GMT
END:STANDARD
BEGIN:STANDARD
DTSTART:20291028T010000
RDATE:20300331T020000
TZOFFSETFROM:+0100
TZOFFSETTO:+0000
TZNAME:Europe/London GMT
END:STANDARD
BEGIN:STANDARD
DTSTART:20301027T010000
RDATE:20310330T020000
TZOFFSETFROM:+0100
TZOFFSETTO:+0000
TZNAME:Europe/London GMT
END:STANDARD
BEGIN:STANDARD
DTSTART:20311026T010000
RDATE:20320328T020000
TZOFFSETFROM:+0100
TZOFFSETTO:+0000
TZNAME:Europe/London GMT
END:STANDARD
BEGIN:DAYLIGHT
DTSTART:20240331T020000
RDATE:20241027T010000
TZOFFSETFROM:+0000
TZOFFSETTO:+0100
TZNAME:Europe/London BST
END:DAYLIGHT
BEGIN:DAYLIGHT
DTSTART:20250330T020000
RDATE:20251026T010000
TZOFFSETFROM:+0000
TZOFFSETTO:+0100
TZNAME:Europe/London BST
END:DAYLIGHT
BEGIN:DAYLIGHT
DTSTART:20260329T020000
RDATE:20261025T010000
TZOFFSETFROM:+0000
TZOFFSETTO:+0100
TZNAME:Europe/London BST
END:DAYLIGHT
BEGIN:DAYLIGHT
DTSTART:20270328T020000
RDATE:20271031T010000
TZOFFSETFROM:+0000
TZOFFSETTO:+0100
TZNAME:Europe/London BST
END:DAYLIGHT
BEGIN:DAYLIGHT
DTSTART:20280326T020000
RDATE:20281029T010000
TZOFFSETFROM:+0000
TZOFFSETTO:+0100
TZNAME:Europe/London BST
END:DAYLIGHT
BEGIN:DAYLIGHT
DTSTART:20290325T020000
RDATE:20291028T010000
TZOFFSETFROM:+0000
TZOFFSETTO:+0100
TZNAME:Europe/London BST
END:DAYLIGHT
BEGIN:DAYLIGHT
DTSTART:20300331T020000
RDATE:20301027T010000
TZOFFSETFROM:+0000
TZOFFSETTO:+0100
TZNAME:Europe/London BST
END:DAYLIGHT
BEGIN:DAYLIGHT
DTSTART:20310330T020000
RDATE:20311026T010000
TZOFFSETFROM:+0000
TZOFFSETTO:+0100
TZNAME:Europe/London BST
END:DAYLIGHT
END:VTIMEZONE
BEGIN:VEVENT
UID:985057b6352b37c86dc51be3ba68f24e
CATEGORIES:Online
CREATED:20241216T223440
SUMMARY:Online Morning Prayer
LOCATION:Online
DESCRIPTION:An opportunity for all in the benefice to join in formal Morning Prayer onc
 e a week, led by Revd Rick Williams.\nThe worship is based on psalms, Bible
  readings and prayers according to the Common Worship Daily Lectionary. (ht
 tps://www.churchofengland.org/prayer-and-worship/worship-texts-and-resource
 s/common-worship/daily-prayer/morning-and-evening#mm008e6g)\nUse your smart
 phone, tablet or computer to connect. To receive an online meeting link via
  email, please contact This email address is being protected from spambots.
  You need JavaScript enabled to view it.
				document.getElementById('cloak
 52ece7fa230b5be6d085113dfd5a1abc').innerHTML = '';
				var prefix = '&#109;
 a' + 'i&#108;' + '&#116;o';
				var path = 'hr' + 'ef' + '=';
				var addy5
 2ece7fa230b5be6d085113dfd5a1abc = 'n&#101;ws' + '&#64;';
				addy52ece7fa23
 0b5be6d085113dfd5a1abc = addy52ece7fa230b5be6d085113dfd5a1abc + 'stm&#97;ry
 sk&#105;ngsw&#111;&#111;d' + '&#46;' + '&#111;rg' + '&#46;' + '&#117;k';
		
 		var addy_text52ece7fa230b5be6d085113dfd5a1abc = 'n&#101;ws' + '&#64;' + '
 stm&#97;rysk&#105;ngsw&#111;&#111;d' + '&#46;' + '&#111;rg' + '&#46;' + '&#
 117;k';document.getElementById('cloak52ece7fa230b5be6d085113dfd5a1abc').inn
 erHTML += '<a ' + path + '\'' + prefix + ':' + addy52ece7fa230b5be6d085113d
 fd5a1abc + '\'>'+addy_text52ece7fa230b5be6d085113dfd5a1abc+'';
		\n
X-ALT-DESC;FMTTYPE=text/html:<p>An opportunity for all in the benefice to join in formal Morning Prayer 
 once a week, led by Revd Rick Williams.</p><p>The worship is based on psalm
 s, Bible readings and prayers according to the <a href="https://www.churcho
 fengland.org/prayer-and-worship/worship-texts-and-resources/common-worship/
 daily-prayer/morning-and-evening#mm008e6g" target="_blank" rel="noopener">C
 ommon Worship Daily Lectionary.</a></p><p>Use your smartphone, tablet or co
 mputer to connect. To receive an online meeting link via email, please cont
 act <span id="cloak52ece7fa230b5be6d085113dfd5a1abc">This email address is 
 being protected from spambots. You need JavaScript enabled to view it.</spa
 n><script type='text/javascript'>
				document.getElementById('cloak52ece7f
 a230b5be6d085113dfd5a1abc').innerHTML = '';
				var prefix = '&#109;a' + 'i
 &#108;' + '&#116;o';
				var path = 'hr' + 'ef' + '=';
				var addy52ece7fa
 230b5be6d085113dfd5a1abc = 'n&#101;ws' + '&#64;';
				addy52ece7fa230b5be6d
 085113dfd5a1abc = addy52ece7fa230b5be6d085113dfd5a1abc + 'stm&#97;rysk&#105
 ;ngsw&#111;&#111;d' + '&#46;' + '&#111;rg' + '&#46;' + '&#117;k';
				var a
 ddy_text52ece7fa230b5be6d085113dfd5a1abc = 'n&#101;ws' + '&#64;' + 'stm&#97
 ;rysk&#105;ngsw&#111;&#111;d' + '&#46;' + '&#111;rg' + '&#46;' + '&#117;k';
 document.getElementById('cloak52ece7fa230b5be6d085113dfd5a1abc').innerHTML 
 += '<a ' + path + '\'' + prefix + ':' + addy52ece7fa230b5be6d085113dfd5a1ab
 c + '\'>'+addy_text52ece7fa230b5be6d085113dfd5a1abc+'<\/a>';
		</script></p
 >
DTSTAMP:20260419T133254
DTSTART;TZID=Europe/London:20250205T090000
DTEND;TZID=Europe/London:20250205T093000
SEQUENCE:0
TRANSP:OPAQUE
END:VEVENT
END:VCALENDAR